Workbook
Name Gebäudeteil: Faktoren!#REF!

Sheet Planungsübersicht
B2: 2021
B3: 2022
B4: 2023
B5: 2024
B6: 2025
B7: 2026
B8: 2027
B9: 2028
B10: 2029
B11: 2030
A12: zukünftiger Termin | B12: 2031 | E12: KLIMASCHUTZPLAN
A13: umgesetzt | B13: 2032 | E13: Planungsübersicht | F13: 2026 | G13: Stand: | H13: =TODAY() -> 46265
A14: wird laufend umgesetzt | B14: 2033 | E14: Matthias-Claudius-Gymnasium
A15: in Umsetzung (Anfang) | B15: 2034
A16: in Umsetzung (Mitte) | B16: 2035 | F16: Jahr | G16: Emission [%] [kg] | J16: CO2-Einsparungen [kg]
A17: in Umsetzung (Ende) | B17: 2036 | E17: Ausgangsjahr: | F17: 2022 | G17: 100 | H17: =ROUND('CO2-Schulbilanz'!C7,-1) -> 475480 | I17: Handlungsfeld | J17: =F17+1 -> 2023 | K17: =J17+1 -> 2024 | L17: =K17+1 -> 2025 | M17: =L17+1 -> 2026 | N17: =M17+1 -> 2027 | O17: =N17+1 -> 2028 | P17: =O17+1 -> 2029 | Q17: =P17+1 -> 2030 | R17: =Q17+1 -> 2031 | ... AF17: =AE17+1 -> 2045
A18: bisher nicht umgesetzt | B18: 2037 | E18: CO2-Einsparziel: | F18: 2030 | G18: 25 | H18: =ROUND((1-G18/100)*H$17,-1) -> 356610 | I18: Übergreifend: | J18: =IF(J29=0,"",J29) | K18: =IF(K29=0,"",K29) | L18: =IF(L29=0,"",L29) | M18: =IF(M29=0,"",M29) | N18: =IF(N29=0,"",N29) | O18: =IF(O29=0,"",O29) | P18: =IF(P29=0,"",P29) | Q18: =IF(Q29=0,"",Q29) | ... AF18: =IF(AF29=0,"",AF29)
B19: 2038 | E19: CO2-Einsparziel: | F19: 2045 | G19: 50 | H19: =ROUND((1-G19/100)*H$17,-1) -> 237740 | I19: Wärme: | J19: =IF(J58=0,"",J58) -> 69424 | K19: =IF(K58=0,"",K58) -> 69424 | L19: =IF(L58=0,"",L58) -> 69424 | M19: =IF(M58=0,"",M58) -> 69424 | N19: =IF(N58=0,"",N58) -> 69424 | O19: =IF(O58=0,"",O58) -> 69424 | P19: =IF(P58=0,"",P58) -> 69424 | Q19: =IF(Q58=0,"",Q58) -> 69424 | ... AF19: =IF(AF58=0,"",AF58) -> 69424
B20: 2039 | I20: Strom: | J20: =IF(J74=0,"",J74) -> 4375 | K20: =IF(K74=0,"",K74) -> 10098 | L20: =IF(L74=0,"",L74) -> 24405 | M20: =IF(M74=0,"",M74) -> 24405 | N20: =IF(N74=0,"",N74) -> 24405 | O20: =IF(O74=0,"",O74) -> 24405 | P20: =IF(P74=0,"",P74) -> 24405 | Q20: =IF(Q74=0,"",Q74) -> 24405 | ... AF20: =IF(AF74=0,"",AF74) -> 24405
B21: 2040 | I21: Abfall: | J21: =IF(J90=0,"",J90) | K21: =IF(K90=0,"",K90) | L21: =IF(L90=0,"",L90) -> 4945 | M21: =IF(M90=0,"",M90) -> 4945 | N21: =IF(N90=0,"",N90) -> 4945 | O21: =IF(O90=0,"",O90) -> 4945 | P21: =IF(P90=0,"",P90) -> 4945 | Q21: =IF(Q90=0,"",Q90) -> 4945 | ... AF21: =IF(AF90=0,"",AF90) -> 4945
B22: 2041 | I22: Beschaffung: | J22: =IF(J114=0,"",J114) | K22: =IF(K114=0,"",K114) | L22: =IF(L114=0,"",L114) | M22: =IF(M114=0,"",M114) | N22: =IF(N114=0,"",N114) | O22: =IF(O114=0,"",O114) | P22: =IF(P114=0,"",P114) | Q22: =IF(Q114=0,"",Q114) | ... AF22: =IF(AF114=0,"",AF114)
B23: 2042 | I23: Ernährung: | J23: =IF(J130=0,"",J130) | K23: =IF(K130=0,"",K130) | L23: =IF(L130=0,"",L130) | M23: =IF(M130=0,"",M130) | N23: =IF(N130=0,"",N130) | O23: =IF(O130=0,"",O130) | P23: =IF(P130=0,"",P130) | Q23: =IF(Q130=0,"",Q130) | ... AF23: =IF(AF130=0,"",AF130)
B24: 2043 | I24: Mobilität: | J24: =IF(J146=0,"",J146) | K24: =IF(K146=0,"",K146) | L24: =IF(L146=0,"",L146) | M24: =IF(M146=0,"",M146) | N24: =IF(N146=0,"",N146) | O24: =IF(O146=0,"",O146) | P24: =IF(P146=0,"",P146) | Q24: =IF(Q146=0,"",Q146) | ... AF24: =IF(AF146=0,"",AF146)
B25: 2044 | I25: Summe: | J25: =SUM(J18:J24) -> 73799 | K25: =SUM(K18:K24) -> 79522 | L25: =SUM(L18:L24) -> 98774 | M25: =SUM(M18:M24) -> 98774 | N25: =SUM(N18:N24) -> 98774 | O25: =SUM(O18:O24) -> 98774 | P25: =SUM(P18:P24) -> 98774 | Q25: =SUM(Q18:Q24) -> 98774 | ... AF25: =SUM(AF18:AF24) -> 98774
B26: 2045
E27: Handlungsfeldübergreifender Bereich | J27: CO2-Einsparungen [kg]
D28: Nr. | E28: Maßnahme | F28: Termin (Beginn der Umsetzung) | G28: Status der Umsetzung | H28: verantwortlich | I28: Akteure für die Umsetzung | J28: =J$17 -> 2023 | K28: =K$17 -> 2024 | L28: =L$17 -> 2025 | M28: =M$17 -> 2026 | N28: =N$17 -> 2027 | O28: =O$17 -> 2028 | P28: =P$17 -> 2029 | Q28: =Q$17 -> 2030 | ... AF28: =AF$17 -> 2045
I29: Summen [kg]: | J29: =SUM(J30:J54) -> 0 | K29: =SUM(K30:K54) -> 0 | L29: =SUM(L30:L54) -> 0 | M29: =SUM(M30:M54) -> 0 | N29: =SUM(N30:N54) -> 0 | O29: =SUM(O30:O54) -> 0 | P29: =SUM(P30:P54) -> 0 | Q29: =SUM(Q30:Q54) -> 0 | ... AF29: =SUM(AF30:AF54) -> 0
D30: Ü1 | E30: Eine Klimaschutzbeauftragte ist benannt und koordiniert die Planung und Umsetzung des Klimaschutzplans | F30: 2021 | G30: wird laufend umgesetzt | H30: Schulleitung | I30: Klimaschutzbeauftragte | K30: =J30 -> 0 | L30: =K30 -> 0 | M30: =L30 -> 0 | O30: =N30 -> 0 | P30: =O30 -> 0 | R30: =Q30 -> 0 | S30: =R30 -> 0 | T30: =S30 -> 0 | U30: =T30 -> 0 | V30: =U30 -> 0 | W30: =V30 -> 0 | X30: =W30 -> 0 | Y30: =X30 -> 0 | ... AF30: =AE30 -> 0
D31: Ü2 | E31: Eine zentrale Ziel- und Leistungsvereinbarung (ZLV) zu Klimaschutz ist definiert | F31: 2022 | G31: umgesetzt | H31: Schulleitung | I31: Klimaschutzbeauftragte
D32: Ü3 | E32: Eine Schulentwicklungsgruppe (AG) Klima, bestehend aus Vertretung der Schulleitung, Klimaschutzbeauftragter, 3 weiteren Kolleg:innen ist etabliert und trifft sich mind. 6 x pro Schuljahr zur Planung, Umsetzung der Klimaschutzmaßnahmen | F32: 2022 | G32: umgesetzt | H32: Schulleitung | I32: AG Klima
D33: Ü4 | E33: In den Klassen 5-10 werden jährlich zwei Klimasprecher:innen gewählt, sog. "Captains of the future". Diese treffen sich regelmäßig und bilden Arbeitsgruppen | F33: 2022 | G33: wird laufend umgesetzt | H33: AG Mitglied Nr. 2 | I33: Klassenlehrer:innen
D34: Ü5 | E34: Regelmäßige Treffen (mind. 2 x pro Schuljahr) der Captains of the future zur Planung und Umsetzung von Maßnahmen, Kleingruppentreffen der jeweiligen AG mit Klimaschutzbeauftragter / AG Klima | F34: 2022 | G34: wird laufend umgesetzt | H34: Klimaschutzbeauftragte | I34: Klimaschutzbeauftragte, AG Klima, Captains of the future
D35: Ü6 | E35: Klimaschutzaktivitäten werden regelmäßig nach innen (Schul- und Lehrerkonferenz) und nach außen kommuniziert (Schulhomepage, Informationsvitrine, Elterninformationen u.a.) | F35: 2021 | G35: wird laufend umgesetzt | H35: Klimaschutzbeauftragte | I35: Schulgemeinschaft | K35: =J35 -> 0 | L35: =K35 -> 0 | M35: =L35 -> 0 | N35: =M35 -> 0 | O35: =N35 -> 0 | P35: =O35 -> 0 | Q35: =P35 -> 0 | R35: =Q35 -> 0 | ... AF35: =AE35 -> 0
D36: Ü7 | E36: Der Hausmeister ist regelmäßig im Klima-Team eingebunden | F36: 2021 | G36: wird laufend umgesetzt | H36: Klimaschutzbeauftragte | I36: Klimaschutzbeauftragte, Hausmeister | K36: =J36 -> 0 | L36: =K36 -> 0 | M36: =L36 -> 0 | N36: =M36 -> 0 | O36: =N36 -> 0 | P36: =O36 -> 0 | Q36: =P36 -> 0 | R36: =Q36 -> 0 | ... AF36: =AE36 -> 0
D37: Ü8 | E37: Der Hausmeister liest die Energiever- bräuche regelmäßig ab und dokumentiert diese für Schulöffentlichkeit, Gebäudemanagement | F37: 2022 | G37: bisher nicht umgesetzt | H37: Hausmeister | I37: Hausmeister | K37: =J37 -> 0 | L37: =K37 -> 0 | M37: =L37 -> 0 | N37: =M37 -> 0 | O37: =N37 -> 0 | P37: =O37 -> 0 | Q37: =P37 -> 0 | R37: =Q37 -> 0 | ... AF37: =AE37 -> 0
D38: Ü9 | E38: Es gibt ein schulinternes Meldesystem für energetische „Schlupflöcher", NEU: jetzt digital als Iserv-Modul | F38: 2021 | G38: wird laufend umgesetzt | H38: AG Mitglied Nr.1 und Captains of the Future, Hausmeister | I38: Hausmeister, Kolleg:innen, Schulleitung, SBH
D39: Ü10 | E39: Nutzung der Angebote zur Klimawoche (Bsp. Wetter.Wasser.Waterkant (WWW)) | F39: 2023 | G39: wird laufend umgesetzt | H39: AG Mitglied Nr.1 und Captains of the Future, Hausmeister | I39: Schulleitung, Captains of the future, Hausmeister | K39: =J39 -> 0 | L39: =K39 -> 0 | M39: =L39 -> 0 | N39: =M39 -> 0 | O39: =N39 -> 0 | P39: =O39 -> 0 | Q39: =P39 -> 0 | R39: =Q39 -> 0 | ... AF39: =AE39 -> 0
D40: Ü11 | E40: Schüler:innen der Klassen 5 und 6 sind als Energie-Detektive (Captains of the Future) ausgebildet und tätig | F40: 2022 | G40: wird laufend umgesetzt | H40: Klimaschutzbeauftragte | I40: Schüler:innen der Klassenstufe 5 und 6
D41: Ü12 | E41: Es sind Hinweisschilder in jedem Klassenraum angebracht, die zu angemessenem Umgang mit Strom, Heizen/Lüften und Mülltrennung auffordern | F41: 2022 | G41: wird laufend umgesetzt | H41: AG Mitglied Nr.2 | I41: Captains of the future
D42: Ü13 | E42: Nutzung der Angebote zur Klimawoche (Bsp. Wetter.Wasser.Waterkant (WWW)) | F42: 2021 | G42: wird laufend umgesetzt | H42: Klimaschutzbeauftragte | I42: Klassenstufen 5-10, je nach Verfügbarkeit | K42: =J42 -> 0 | L42: =K42 -> 0 | M42: =L42 -> 0 | N42: =M42 -> 0 | O42: =N42 -> 0 | P42: =O42 -> 0 | Q42: =P42 -> 0 | R42: =Q42 -> 0 | ... AF42: =AE42 -> 0
D43: Ü14 | E43: Klimaschutz wird thematisch in mindestens einem Jahrgang zur Projektwoche - mindestens aber an einem Tag - verankert. Darüber hinaus werden schulinterne Klimatage etabliert | F43: 2025 | G43: wird laufend umgesetzt | H43: AG Klima | I43: AG Klima, Captains of the future, Schulgemeinschaft | K43: =J43 -> 0 | L43: =K43 -> 0 | M43: =L43 -> 0 | N43: =M43 -> 0 | O43: =N43 -> 0 | P43: =O43 -> 0 | Q43: =P43 -> 0 | R43: =Q43 -> 0 | ... AF43: =AE43 -> 0
D44: Ü15 | E44: Wettbewerbe zu Klimaschutzthemen werden geplant und umgesetzt; NEU: Stickerwettbewerb 2026 | F44: 2025 | G44: in Umsetzung (Mitte) | H44: AG Klima | I44: AG Klima, Captains of the future
D45: Ü16 | E45: Schulinternes Curriculum für das Aufgabengebiet Umwelterziehung ist entwickelt und wird umgesetzt | F45: 2025 | G45: in Umsetzung (Ende) | H45: Fachleitungen, Klimaschutzbeuftragte | I45: Schulleitung, Fachleitungen und Kolleg:innen | K45: =J45 -> 0 | L45: =K45 -> 0 | M45: =L45 -> 0 | N45: =M45 -> 0 | O45: =N45 -> 0 | P45: =O45 -> 0 | Q45: =P45 -> 0 | R45: =Q45 -> 0 | ... AF45: =AE45 -> 0
D46: Ü17 | E46: Teilnahme an anderen Programmen für Klima- und Umweltschutz: Energie hoch 4; Umweltschule | F46: 2021 | G46: wird laufend umgesetzt | H46: Klimaschutzbeauftragte | I46: Schulgemeinschaft | K46: =J46 -> 0 | L46: =K46 -> 0 | M46: =L46 -> 0 | N46: =M46 -> 0 | O46: =N46 -> 0 | P46: =O46 -> 0 | Q46: =P46 -> 0 | R46: =Q46 -> 0 | ... AF46: =AE46 -> 0
D47: Ü18 | E47: E4-Prämien werden für Klima- schutzaktivitäten genutzt; Prämie und Verwendung wird in Lehrerkonferenz thematisiert | F47: 2023 | G47: in Umsetzung (Anfang) | H47: Klimaschutzbeauftragte | I47: Schulgemeinschaft | K47: =J47 -> 0 | L47: =K47 -> 0 | M47: =L47 -> 0 | N47: =M47 -> 0 | O47: =N47 -> 0 | P47: =O47 -> 0 | Q47: =P47 -> 0 | R47: =Q47 -> 0 | ... AF47: =AE47 -> 0
D48: Ü19 | E48: Verschoben aus 2024: Die Schüler:innen der Jahrgänge 5-11 er- und überarbeiten Hinweisschilder, in denen zum Klimaschutz aufgefordert wird | F48: 2026 | G48: in Umsetzung (Anfang) | H48: AG Mitglied Nr.2 | I48: Schüler:innen der Jahrgänge 5-11 | K48: =J48 -> 0 | L48: =K48 -> 0 | M48: =L48 -> 0 | N48: =M48 -> 0 | O48: =N48 -> 0 | P48: =O48 -> 0 | Q48: =P48 -> 0 | R48: =Q48 -> 0 | ... AF48: =AE48 -> 0
D49: Ü20 | E49: Hinweise zum wassersparenden Ver- halten in den Toilettenräumen anbringen | F49: 2025 | G49: in Umsetzung (Anfang) | H49: AG Mitglied Nr. 2 | I49: Schüler:innen, AG Klima
D50: Ü21 | E50: Verschoben aus 2025: Umfangreiche Baumaßnahmen; Schulhofbegrünung (und naturnahe Umgestaltung im Zuge des Neubaus) wird eng geplant und abgestimmt mit Beratung des LI Experten | F50: 2030 | G50: zukünftiger Termin | H50: AG-Mitglied Nr. 2 | I50: AG Klima, LI, Schulleitung | K50: =J50 -> 0 | L50: =K50 -> 0 | M50: =L50 -> 0 | N50: =M50 -> 0 | O50: =N50 -> 0 | P50: =O50 -> 0 | Q50: =P50 -> 0 | R50: =Q50 -> 0 | ... AF50: =AE50 -> 0
D51: Ü22 | E51: Klimaschutzaspekte werden bei Neubau mitbedacht (bspw. Photovoltaikanlage) | F51: 2024 | G51: in Umsetzung (Anfang) | H51: Schulleitung | I51: AG Klima, SBH | K51: =J51 -> 0 | L51: =K51 -> 0 | M51: =L51 -> 0 | N51: =M51 -> 0 | O51: =N51 -> 0 | P51: =O51 -> 0 | Q51: =P51 -> 0 | R51: =Q51 -> 0 | ... AF51: =AE51 -> 0
D52: Ü23 | E52: NEU: Aktuelle Klimaschutzaktivitäten der Schule werden über SDUI-News mit der Schulgemeinschaft geteilt | F52: 2024 | G52: wird laufend umgesetzt | H52: Klimaschutzbeauftragte | I52: AG-Klima | K52: =J52 -> 0 | L52: =K52 -> 0 | M52: =L52 -> 0 | N52: =M52 -> 0 | O52: =N52 -> 0 | P52: =O52 -> 0 | Q52: =P52 -> 0 | R52: =Q52 -> 0 | ... AF52: =AE52 -> 0
K53: =J53 -> 0 | L53: =K53 -> 0 | M53: =L53 -> 0 | N53: =M53 -> 0 | O53: =N53 -> 0 | P53: =O53 -> 0 | Q53: =P53 -> 0 | R53: =Q53 -> 0 | ... AF53: =AE53 -> 0
K54: =J54 -> 0 | L54: =K54 -> 0 | M54: =L54 -> 0 | N54: =M54 -> 0 | O54: =N54 -> 0 | P54: =O54 -> 0 | Q54: =P54 -> 0 | R54: =Q54 -> 0 | ... AF54: =AE54 -> 0
E56: Handlungsfeld Wärme | J56: CO2-Einsparungen [kg]
D57: Nr. | E57: Maßnahme | F57: Termin (Beginn der Umsetzung) | G57: Status der Umsetzung | H57: verantwortlich | I57: Akteure für die Umsetzung | J57: =J$17 -> 2023 | K57: =K$17 -> 2024 | L57: =L$17 -> 2025 | M57: =M$17 -> 2026 | N57: =N$17 -> 2027 | O57: =O$17 -> 2028 | P57: =P$17 -> 2029 | Q57: =Q$17 -> 2030 | ... AF57: =AF$17 -> 2045
I58: Summen [kg]: | J58: =SUM(J59:J70) -> 69424 | K58: =SUM(K59:K70) -> 69424 | L58: =SUM(L59:L70) -> 69424 | M58: =SUM(M59:M70) -> 69424 | N58: =SUM(N59:N70) -> 69424 | O58: =SUM(O59:O70) -> 69424 | P58: =SUM(P59:P70) -> 69424 | Q58: =SUM(Q59:Q70) -> 69424 | ... AF58: =SUM(AF59:AF70) -> 69424
D59: W1 | E59: Räume mit Hinweisen auf entsprechende Solltemperaturen versehen | F59: 2024 | G59: in Umsetzung (Anfang) | H59: Klimaschutzbeauftragte | I59: Captains of the future | K59: =J59 -> 0 | L59: =K59 -> 0 | M59: =L59 -> 0 | N59: =M59 -> 0 | O59: =N59 -> 0 | P59: =O59 -> 0 | Q59: =P59 -> 0 | R59: =Q59 -> 0 | ... AF59: =AE59 -> 0
D60: W2 | E60: Temperaturen in Unterrichtsräumen, Fluren etc. werden in regelmäßigen Abständen kon- trolliert (Abgleich mit Temperaturvorgaben) | F60: 2023 | G60: in Umsetzung (Anfang) | H60: AG-Mitglied Nr.3 | I60: AG Klima, Captains of the Future | J60: 9053 | K60: =J60 -> 9053 | L60: =K60 -> 9053 | M60: =L60 -> 9053 | N60: =M60 -> 9053 | O60: =N60 -> 9053 | P60: =O60 -> 9053 | Q60: =P60 -> 9053 | R60: =Q60 -> 9053 | ... AF60: =AE60 -> 9053
D61: W3 | E61: Thermometer in allen Räumen anbringen und in regelmäßigen Abständen kontrollieren (bei Bedarf erneuern) | F61: 2023 | G61: wird laufend umgesetzt | H61: Klimaschutzbeauftragte | I61: Hausmeister, Captains of the Future | K61: =J61 -> 0 | L61: =K61 -> 0 | M61: =L61 -> 0 | N61: =M61 -> 0 | O61: =N61 -> 0 | P61: =O61 -> 0 | Q61: =P61 -> 0 | R61: =Q61 -> 0 | ... AF61: =AE61 -> 0
D62: W4 | E62: Temperaturmessungen mit Datenloggern in Heizperiode um Heiz- und Absenkbetriebszeiten zu überprüfen | F62: 2024 | G62: in Umsetzung (Ende) | H62: AG-Mitglied Nr.3 | I62: Hausmeister, AG Klima; Captains of the future
E63: Schulung von Hausmeister und Begleitung der optimalen Einstellung und Nutzung der Heizungsanlage und Steuerung | F63: 2024 | G63: bisher nicht umgesetzt | H63: Hausmeister | I63: Objektmanager, SBH
D64: W5 | E64: verschoben aus 2024 Feinjustierung der Gebäudeleittechnik (prüfen und Optimieren der Zeitvorgaben und Heizkurven für alle Heizkreise) | F64: 2027 | G64: zukünftiger Termin | H64: Hausmeister | I64: Hausmeister, Schulbau Hamburg | J64: 6053 | K64: =J64 -> 6053 | L64: =K64 -> 6053 | M64: =L64 -> 6053 | N64: =M64 -> 6053 | O64: =N64 -> 6053 | P64: =O64 -> 6053 | Q64: =P64 -> 6053 | R64: =Q64 -> 6053 | ... AF64: =AE64 -> 6053
E65: Absenkbetrieb der Heizung in den nicht genutzten Gebäudeteilen während der nutzungsfreien Zeiten (Wochenende, Ferienzeiten) prüfen und optimieren | F65: 2021 | G65: in Umsetzung (Anfang) | H65: Hausmeister | I65: Hausmeister, SBH | J65: 21124 | K65: 21124 | L65: 21124 | M65: 21124 | N65: 21124 | O65: 21124 | P65: 21124 | Q65: 21124 | R65: 21124 | S65: 21124 | T65: 21124 | U65: 21124 | V65: 21124 | W65: 21124 | X65: 21124 | Y65: 21124 | Z65: 21124 | AA65: 21124 | AB65: 21124 | AC65: 21124 | AD65: 21124 | AE65: 21124 | AF65: 21124
D66: W6 | E66: Die Raum- und Gebäudebereichsbelegung wird vor der Heizperiode mit den Heizzeiten abgeglichen und optimiert | F66: 2021 | G66: wird laufend umgesetzt | H66: Haumeister | I66: Hausmeister, Schulleitung | J66: 6035 | K66: =J66 -> 6035 | L66: =K66 -> 6035 | M66: =L66 -> 6035 | N66: =M66 -> 6035 | O66: =N66 -> 6035 | P66: =O66 -> 6035 | Q66: =P66 -> 6035 | R66: =Q66 -> 6035 | ... AF66: =AE66 -> 6035
D67: W9 | E67: Heizungs-Thermostate in Fluren, Treppenhäusern, Toiletten, Eingangsbereichen und Klassen- und Fachräumen prüfen und wo möglich Thermostate entsprechenend Solltemperaturen feststellen, oder Umrüstung auf regelbare, innenliegend begrenzbare Thermostate prüfen | F67: 2023 | G67: in Umsetzung (Anfang) | H67: AG Klima, Hausmeister | I67: Hausmeister, AG Klima, SBH, Schulleitung | J67: 9053 | K67: =J67 -> 9053 | L67: =K67 -> 9053 | M67: =L67 -> 9053 | N67: =M67 -> 9053 | O67: =N67 -> 9053 | P67: =O67 -> 9053 | Q67: =P67 -> 9053 | R67: =Q67 -> 9053 | ... AF67: =AE67 -> 9053
D68: W10 | E68: Das richtige Heizen und Lüften von Klassenzimmern wird regelmäßig während der Klassenleiterstunden eingeübt und thematisiert. Zwingend immer zu Beginn eines Schuljahres und zu Beginn der Heizperiode | F68: 2022 | G68: wird laufend umgesetzt | H68: Klimaschutzbeauftragte | I68: Captains of the future, Schüler:innen und Kolleg:innen | J68: 18106 | K68: =J68 -> 18106 | L68: =K68 -> 18106 | M68: =L68 -> 18106 | N68: =M68 -> 18106 | O68: =N68 -> 18106 | P68: =O68 -> 18106 | Q68: =P68 -> 18106 | R68: =Q68 -> 18106 | ... AF68: =AE68 -> 18106
D69: W11 | K69: =J69 -> 0 | L69: =K69 -> 0 | M69: =L69 -> 0 | N69: =M69 -> 0 | O69: =N69 -> 0 | P69: =O69 -> 0 | Q69: =P69 -> 0 | R69: =Q69 -> 0 | ... AF69: =AE69 -> 0
D70: W12 | K70: =J70 -> 0 | L70: =K70 -> 0 | M70: =L70 -> 0 | N70: =M70 -> 0 | O70: =N70 -> 0 | P70: =O70 -> 0 | Q70: =P70 -> 0 | R70: =Q70 -> 0 | ... AF70: =AE70 -> 0
E72: Handlungsfeld Strom | J72: CO2-Einsparungen [kg]
D73: Nr. | E73: Maßnahme | F73: Termin (Beginn der Umsetzung) | G73: Status der Umsetzung | H73: verantwortlich | I73: Akteure für die Umsetzung | J73: =J$17 -> 2023 | K73: =K$17 -> 2024 | L73: =L$17 -> 2025 | M73: =M$17 -> 2026 | N73: =N$17 -> 2027 | O73: =O$17 -> 2028 | P73: =P$17 -> 2029 | Q73: =Q$17 -> 2030 | ... AF73: =AF$17 -> 2045
I74: Summen [kg]: | J74: =SUM(J75:J86) -> 4375 | K74: =SUM(K75:K86) -> 10098 | L74: =SUM(L75:L86) -> 24405 | M74: =SUM(M75:M86) -> 24405 | N74: =SUM(N75:N86) -> 24405 | O74: =SUM(O75:O86) -> 24405 | P74: =SUM(P75:P86) -> 24405 | Q74: =SUM(Q75:Q86) -> 24405 | ... AF74: =SUM(AF75:AF86) -> 24405
D75: S1 | E75: Lichtschalter in Klassenräumen, Fluren, Lehrerzimmer etc. markieren und/oder Hinweise zu angemessener Beleuchtung anbringen | F75: 2024 | G75: in Umsetzung (Anfang) | H75: AG-Mitglied Nr. 2 | I75: Captains of the future, AG Klima | K75: 5723 | L75: =K75 -> 5723 | M75: =L75 -> 5723 | N75: =M75 -> 5723 | O75: =N75 -> 5723 | P75: =O75 -> 5723 | Q75: =P75 -> 5723 | R75: =Q75 -> 5723 | S75: =R75 -> 5723 | ... AF75: =AE75 -> 5723
D76: S2 | E76: Hinweise zum sparsamen Umgang mit Strom in allen Klassen anbringen und jährlich kontrollieren und ggf. erneuern | F76: 2023 | G76: wird laufend umgesetzt | H76: AG Mitglied Nr.2, Captains of the future | I76: Captains of the future, AG Klima | K76: =J76 -> 0 | L76: =K76 -> 0 | M76: =L76 -> 0 | N76: =M76 -> 0 | O76: =N76 -> 0 | P76: =O76 -> 0 | Q76: =P76 -> 0 | R76: =Q76 -> 0 | ... AF76: =AE76 -> 0
D77: S3 | E77: Verschoben aus 2025: Austausch der Beleuchtung der Flure und ggf. der Klassenräume in Haus 1 mit LED-Lampen | F77: 2028 | G77: zukünftiger Termin | H77: Hausmeister, Schulleitung | I77: Hausmeister | K77: =J77 -> 0 | L77: 14307 | M77: =L77 -> 14307 | N77: =M77 -> 14307 | O77: =N77 -> 14307 | P77: =O77 -> 14307 | Q77: =P77 -> 14307 | R77: =Q77 -> 14307 | S77: =R77 -> 14307 | T77: =S77 -> 14307 | ... AF77: =AE77 -> 14307
D78: S4 | E78: Elektronische Geräte werden nach Schulschluss automatisch heruntergefahren | F78: 2022 | G78: umgesetzt | H78: Systemadministrator | I78: AG Klima, Kolleg:innen | J78: 4375 | K78: =J78 -> 4375 | L78: =K78 -> 4375 | M78: =L78 -> 4375 | N78: =M78 -> 4375 | O78: =N78 -> 4375 | P78: =O78 -> 4375 | Q78: =P78 -> 4375 | R78: =Q78 -> 4375 | ... AF78: =AE78 -> 4375
D79: S5 | E79: An allen C-Touch-Geräten wird der Energiesparmodus eingestellt | F79: 2024 | G79: in Umsetzung (Anfang) | H79: Systemadministrator | I79: Kolleg:innen | K79: =J79 -> 0 | L79: =K79 -> 0 | M79: =L79 -> 0 | N79: =M79 -> 0 | O79: =N79 -> 0 | P79: =O79 -> 0 | Q79: =P79 -> 0 | R79: =Q79 -> 0 | ... AF79: =AE79 -> 0
D80: S6 | E80: NEU: Elektronische Geräte werden nach der 6. Stunde in Fach-und Klassenräumen von Kollegen ausgeschaltet | F80: 2026 | G80: in Umsetzung (Anfang) | H80: Klima-AG, Kolleg:innen | I80: Captains of the future, Kolleg;innen | K80: =J80 -> 0 | L80: =K80 -> 0 | M80: =L80 -> 0 | N80: =M80 -> 0 | O80: =N80 -> 0 | P80: =O80 -> 0 | Q80: =P80 -> 0 | R80: =Q80 -> 0 | ... AF80: =AE80 -> 0
D81: S7 | K81: =J81 -> 0 | L81: =K81 -> 0 | M81: =L81 -> 0 | N81: =M81 -> 0 | O81: =N81 -> 0 | P81: =O81 -> 0 | Q81: =P81 -> 0 | R81: =Q81 -> 0 | ... AF81: =AE81 -> 0
D82: S8 | K82: =J82 -> 0 | L82: =K82 -> 0 | M82: =L82 -> 0 | N82: =M82 -> 0 | O82: =N82 -> 0 | P82: =O82 -> 0 | Q82: =P82 -> 0 | R82: =Q82 -> 0 | ... AF82: =AE82 -> 0
D83: S9 | K83: =J83 -> 0 | L83: =K83 -> 0 | M83: =L83 -> 0 | N83: =M83 -> 0 | O83: =N83 -> 0 | P83: =O83 -> 0 | Q83: =P83 -> 0 | R83: =Q83 -> 0 | ... AF83: =AE83 -> 0
D84: S10 | K84: =J84 -> 0 | L84: =K84 -> 0 | M84: =L84 -> 0 | N84: =M84 -> 0 | O84: =N84 -> 0 | P84: =O84 -> 0 | Q84: =P84 -> 0 | R84: =Q84 -> 0 | ... AF84: =AE84 -> 0
D85: S11 | K85: =J85 -> 0 | L85: =K85 -> 0 | M85: =L85 -> 0 | N85: =M85 -> 0 | O85: =N85 -> 0 | P85: =O85 -> 0 | Q85: =P85 -> 0 | R85: =Q85 -> 0 | ... AF85: =AE85 -> 0
D86: S12 | K86: =J86 -> 0 | L86: =K86 -> 0 | M86: =L86 -> 0 | N86: =M86 -> 0 | O86: =N86 -> 0 | P86: =O86 -> 0 | Q86: =P86 -> 0 | R86: =Q86 -> 0 | ... AF86: =AE86 -> 0
E88: Handlungsfeld Abfall | J88: CO2-Einsparungen [kg]
D89: Nr. | E89: Maßnahme | F89: Termin (Beginn der Umsetzung) | G89: Status der Umsetzung | H89: verantwortlich | I89: Akteure für die Umsetzung | J89: =J$17 -> 2023 | K89: =K$17 -> 2024 | L89: =L$17 -> 2025 | M89: =M$17 -> 2026 | N89: =N$17 -> 2027 | O89: =O$17 -> 2028 | P89: =P$17 -> 2029 | Q89: =Q$17 -> 2030 | ... AF89: =AF$17 -> 2045
I90: Summen [kg]: | J90: =SUM(J91:J110) -> 0 | K90: =SUM(K91:K110) -> 0 | L90: =SUM(L91:L110) -> 4945 | M90: =SUM(M91:M110) -> 4945 | N90: =SUM(N91:N110) -> 4945 | O90: =SUM(O91:O110) -> 4945 | P90: =SUM(P91:P110) -> 4945 | Q90: =SUM(Q91:Q110) -> 4945 | ... AF90: =SUM(AF91:AF110) -> 4945
D91: A1 | E91: Es werden verschiedene, markierte Behälter für die Abfalltrennung in allen Klassen aufgestellt und Informationen zur richtigen Abfalltrennung angebracht - diese werden regelmäßig von den Captains kontrolliert | F91: 2022 | G91: umgesetzt | H91: Klimaschutzbeauftragte | I91: Captains of the future, AG Klima | K91: =J91 -> 0 | L91: =K91 -> 0 | M91: =L91 -> 0 | N91: =M91 -> 0 | O91: =N91 -> 0 | P91: =O91 -> 0 | Q91: =P91 -> 0 | R91: =Q91 -> 0 | ... AF91: =AE91 -> 0
D92: A2 | E92: Regelmäßige Abstimmung mit dem Reinigungspersonal zur Organisation und dem Ziel einer korrekten Abfalltrennung (u.a. auch keine Müllbeutel mehr in den Mülleimern) | F92: 2024 | G92: in Umsetzung (Anfang) | H92: Klimaschutzbeauftragte, Hausmeister | I92: Reinigungspersonal | K92: =J92 -> 0 | L92: =K92 -> 0 | M92: =L92 -> 0 | N92: =M92 -> 0 | O92: =N92 -> 0 | P92: =O92 -> 0 | Q92: =P92 -> 0 | R92: =Q92 -> 0 | ... AF92: =AE92 -> 0
D93: A3 | E93: Design-Wettbewerb Hinweisschilder zum Klimaschutz in unserer Schule | F93: 2025 | G93: in Umsetzung (Mitte) | H93: AG Klima | I93: Schüler:innen | K93: =J93 -> 0 | L93: =K93 -> 0 | M93: =L93 -> 0 | N93: =M93 -> 0 | O93: =N93 -> 0 | P93: =O93 -> 0 | Q93: =P93 -> 0 | R93: =Q93 -> 0 | ... AF93: =AE93 -> 0
D94: A4 | E94: In jeder Klasse 5-10 gibt es einen Dienst zur Entleerung der Recycling-Mülleimer. In den Jahrgängen 11 und 12 geschieht die Leerung der Mülleimer nach der sechsten Stunde selbstständig ohne festen Dienst | F94: 2022 | G94: wird laufend umgesetzt | H94: Klimaschutzbeauftragte | I94: Schüler:innen, Kolleg:innen | K94: =J94 -> 0 | L94: =K94 -> 0 | M94: =L94 -> 0 | N94: =M94 -> 0 | O94: =N94 -> 0 | P94: =O94 -> 0 | Q94: =P94 -> 0 | R94: =Q94 -> 0 | ... AF94: =AE94 -> 0
D95: A5 | E95: Richtige Mülltrennung in allen Klassen thematisieren und begleiten, Recyclingdienste nachhalten, Trennung von Abfall überprüfen (lassen) | F95: 2025 | G95: wird laufend umgesetzt | H95: AG-Mitglied Nr. 2 | I95: Captains of the future | L95: 4945 | M95: 4945 | N95: 4945 | O95: 4945 | P95: 4945 | Q95: 4945 | R95: 4945 | S95: 4945 | T95: 4945 | U95: 4945 | V95: 4945 | W95: 4945 | X95: 4945 | Y95: 4945 | Z95: 4945 | AA95: 4945 | AB95: 4945 | AC95: 4945 | AD95: 4945 | AE95: 4945 | AF95: 4945
D96: A6 | E96: Schulinterner Wettbewerb zu Müllvermeidung, Trennung, Entsorgung | F96: 2024 | G96: bisher nicht umgesetzt | H96: Klimaschutzbeauftragte | I96: Captains of the future
D97: A7 | E97: Es werden Kunstwerke aus Recyclingmaterialien erstellt und ausgestellt | F97: 2022 | G97: wird laufend umgesetzt | H97: Fachleitung der Kunstfachschaft | I97: Schüler:innen Jahrgänge 5-12
D98: A8 | E98: Teilnahme an der Aktion "Hamburg räumt auf" | F98: 2021 | G98: wird laufend umgesetzt | H98: AG-Mitglied Nr. 4 | I98: Schüler:innen, Kolleg:innen | K98: =J98 -> 0 | L98: =K98 -> 0 | M98: =L98 -> 0 | N98: =M98 -> 0 | O98: =N98 -> 0 | P98: =O98 -> 0 | Q98: =P98 -> 0 | R98: =Q98 -> 0 | ... AF98: =AE98 -> 0
D99: A9 | E99: Es gibt einen Sammelkarton für Toner | F99: 2021 | G99: umgesetzt | H99: Leitung des Schulbüros | I99: Kollleg:innen, Verwaltung | K99: =J99 -> 0 | L99: =K99 -> 0 | M99: =L99 -> 0 | N99: =M99 -> 0 | O99: =N99 -> 0 | P99: =O99 -> 0 | Q99: =P99 -> 0 | R99: =Q99 -> 0 | ... AF99: =AE99 -> 0
D100: A10 | E100: Verstärkter Einsatz von digitalen Medien zur Vermeidung von Papier | F100: 2021 | G100: wird laufend umgesetzt | H100: Leitung der Digitalisierungsgruppe | I100: Kollleg:innen | K100: =J100 -> 0 | L100: =K100 -> 0 | M100: =L100 -> 0 | N100: =M100 -> 0 | O100: =N100 -> 0 | P100: =O100 -> 0 | Q100: =P100 -> 0 | R100: =Q100 -> 0 | ... AF100: =AE100 -> 0
D101: A11 | E101: Verschoben von 2025:Wasserspender zur Vermeidung von Müll, zweiter Spender in Planung, Neubau | F101: 2028 | G101: in Umsetzung (Anfang) | H101: Schulleitung | I101: AG Klima | K101: =J101 -> 0 | L101: =K101 -> 0 | M101: =L101 -> 0 | N101: =M101 -> 0 | O101: =N101 -> 0 | P101: =O101 -> 0 | Q101: =P101 -> 0 | R101: =Q101 -> 0 | ... AF101: =AE101 -> 0
D102: A12 | E102: Verschoben von 2025 : Schuleigene Trinkfasche mit einem MCG-Klimaschutzlogo für Klasse 5 | F102: 2028 | G102: zukünftiger Termin | H102: Klimaschutzbeauftragte | I102: Captains of the future | K102: =J102 -> 0 | L102: =K102 -> 0 | M102: =L102 -> 0 | N102: =M102 -> 0 | O102: =N102 -> 0 | P102: =O102 -> 0 | Q102: =P102 -> 0 | R102: =Q102 -> 0 | ... AF102: =AE102 -> 0
D103: A13 | E103: Auf dem Schulhof werden Abfalleimer aufgestellt, in denen Müll getrennt wird (Dreifachbehälter). Diese werden durch die Hausmeister korrekt getrennt entsorgt | F103: 2027 | G103: bisher nicht umgesetzt | H103: Klimaschutzbeauftragte | I103: Hausmeister, SBH, Schulleitung | K103: =J103 -> 0 | L103: =K103 -> 0 | M103: =L103 -> 0 | N103: =M103 -> 0 | O103: =N103 -> 0 | P103: =O103 -> 0 | Q103: =P103 -> 0 | R103: =Q103 -> 0 | ... AF103: =AE103 -> 0
D104: A14 | K104: =J104 -> 0 | L104: =K104 -> 0 | M104: =L104 -> 0 | N104: =M104 -> 0 | O104: =N104 -> 0 | P104: =O104 -> 0 | Q104: =P104 -> 0 | R104: =Q104 -> 0 | ... AF104: =AE104 -> 0
...

Sheet Energieverbräuche
A1: Gas
A2: Fernwärme | C2: Energieverbräuche
A3: in m³ | C3: =Planungsübersicht!E14 -> Matthias-Claudius-Gymnasium | G3: 2022 | H3: 2023 | I3: 2024 | J3: 2025 | K3: 2026 | L3: 2027 | M3: 2028 | N3: 2029 | O3: 2030 | P3: 2031 | Q3: 2032 | R3: 2033 | S3: 2034 | T3: 2035 | U3: 2036 | V3: 2037 | W3: 2038 | X3: 2039 | Y3: 2040 | Z3: 2041 | AA3: 2042 | AB3: 2043 | AC3: 2044 | AD3: 2045
A4: in kWh
A5: in MWh | C5: Wärme | D5: 1 | E5: Schule | F5: Energieart: | G5: Fernwärme | H5: Fernwärme | I5: Fernwärme | J5: Fernwärme | K5: Fernwärme
A6: real/ abgelesen | F6: Einheit: | G6: in kWh | H6: in kWh | I6: in kWh | J6: in kWh
A7: witterungsbereinigt | F7: real / witterungsbereinigt: | G7: real/ abgelesen | H7: real/ abgelesen | I7: real/ abgelesen | J7: real/ abgelesen
F8: Verbrauch: | G8: 1137282 | H8: 1066786 | I8: 1061958 | J8: 965320
F9: realer Verbrauch [kWh] | G9: =IF(G7= "witterungsbereinigt", IF(G6="in m³",G8*11.4,IF(G6="in MWh",G8*1000,G8))*Faktoren!C$5/100, IF(G6="in m³",G8*11.4,IF(G6="in MWh",G8*1000,G8))) -> 1137282 | H9: =IF(H7= "witterungsbereinigt", IF(H6="in m³",H8*11.4,IF(H6="in MWh",H8*1000,H8))*Faktoren!D$5/100, IF(H6="in m³",H8*11.4,IF(H6="in MWh",H8*1000,H8))) -> 1066786 | I9: =IF(I7= "witterungsbereinigt", IF(I6="in m³",I8*11.4,IF(I6="in MWh",I8*1000,I8))*Faktoren!E$5/100, IF(I6="in m³",I8*11.4,IF(I6="in MWh",I8*1000,I8))) -> 1061958 | J9: =IF(J7= "witterungsbereinigt", IF(J6="in m³",J8*11.4,IF(J6="in MWh",J8*1000,J8))*Faktoren!F$5/100, IF(J6="in m³",J8*11.4,IF(J6="in MWh",J8*1000,J8))) -> 965320 | K9: =IF(K7= "witterungsbereinigt", IF(K6="in m³",K8*11.4,IF(K6="in MWh",K8*1000,K8))*Faktoren!G$5/100, IF(K6="in m³",K8*11.4,IF(K6="in MWh",K8*1000,K8))) -> 0 | L9: =IF(L7= "witterungsbereinigt", IF(L6="in m³",L8*11.4,IF(L6="in MWh",L8*1000,L8))*Faktoren!H$5/100, IF(L6="in m³",L8*11.4,IF(L6="in MWh",L8*1000,L8))) -> 0 | M9: =IF(M7= "witterungsbereinigt", IF(M6="in m³",M8*11.4,IF(M6="in MWh",M8*1000,M8))*Faktoren!I$5/100, IF(M6="in m³",M8*11.4,IF(M6="in MWh",M8*1000,M8))) -> 0 | N9: =IF(N7= "witterungsbereinigt", IF(N6="in m³",N8*11.4,IF(N6="in MWh",N8*1000,N8))*Faktoren!J$5/100, IF(N6="in m³",N8*11.4,IF(N6="in MWh",N8*1000,N8))) -> 0 | ... AD9: =IF(AD7= "witterungsbereinigt", IF(AD6="in m³",AD8*11.4,IF(AD6="in MWh",AD8*1000,AD8))*Faktoren!Z$5/100, IF(AD6="in m³",AD8*11.4,IF(AD6="in MWh",AD8*1000,AD8))) -> 0
F10: CO2-Emission: | G10: =IF(G5="gas",Energieverbräuche!G9*Faktoren!C$8/1000, Energieverbräuche!G9*Faktoren!C$9/1000) -> 361655.68 | H10: =IF(H5="gas",Energieverbräuche!H9*Faktoren!D$8/1000, Energieverbräuche!H9*Faktoren!D$9/1000) -> 339237.95 | I10: =IF(I5="gas",Energieverbräuche!I9*Faktoren!E$8/1000, Energieverbräuche!I9*Faktoren!E$9/1000) -> 337702.64 | J10: =IF(J5="gas",Energieverbräuche!J9*Faktoren!F$8/1000, Energieverbräuche!J9*Faktoren!F$9/1000) -> 306971.76 | K10: =IF(K5="gas",Energieverbräuche!K9*Faktoren!G$8/1000, Energieverbräuche!K9*Faktoren!G$9/1000) -> 0 | L10: =IF(L5="gas",Energieverbräuche!L9*Faktoren!H$8/1000, Energieverbräuche!L9*Faktoren!H$9/1000) -> 0 | M10: =IF(M5="gas",Energieverbräuche!M9*Faktoren!I$8/1000, Energieverbräuche!M9*Faktoren!I$9/1000) -> 0 | N10: =IF(N5="gas",Energieverbräuche!N9*Faktoren!J$8/1000, Energieverbräuche!N9*Faktoren!J$9/1000) -> 0 | ... AD10: =IF(AD5="gas",Energieverbräuche!AD9*Faktoren!Z$8/1000, Energieverbräuche!AD9*Faktoren!Z$9/1000) -> 0
D11: 2 | F11: Energieart:
F12: Einheit:
F13: real / witterungsbereinigt:
F14: Verbrauch:
F15: realer Verbrauch [kWh] | G15: =IF(G13= "witterungsbereinigt", IF(G12="in m³",G14*11.4,IF(G12="in MWh",G14*1000,G14))*Faktoren!C$5/100, IF(G12="in m³",G14*11.4,IF(G12="in MWh",G14*1000,G14))) -> 0 | H15: =IF(H13= "witterungsbereinigt", IF(H12="in m³",H14*11.4,IF(H12="in MWh",H14*1000,H14))*Faktoren!D$5/100, IF(H12="in m³",H14*11.4,IF(H12="in MWh",H14*1000,H14))) -> 0 | I15: =IF(I13= "witterungsbereinigt", IF(I12="in m³",I14*11.4,IF(I12="in MWh",I14*1000,I14))*Faktoren!E$5/100, IF(I12="in m³",I14*11.4,IF(I12="in MWh",I14*1000,I14))) -> 0 | J15: =IF(J13= "witterungsbereinigt", IF(J12="in m³",J14*11.4,IF(J12="in MWh",J14*1000,J14))*Faktoren!F$5/100, IF(J12="in m³",J14*11.4,IF(J12="in MWh",J14*1000,J14))) -> 0 | K15: =IF(K13= "witterungsbereinigt", IF(K12="in m³",K14*11.4,IF(K12="in MWh",K14*1000,K14))*Faktoren!G$5/100, IF(K12="in m³",K14*11.4,IF(K12="in MWh",K14*1000,K14))) -> 0 | L15: =IF(L13= "witterungsbereinigt", IF(L12="in m³",L14*11.4,IF(L12="in MWh",L14*1000,L14))*Faktoren!H$5/100, IF(L12="in m³",L14*11.4,IF(L12="in MWh",L14*1000,L14))) -> 0 | M15: =IF(M13= "witterungsbereinigt", IF(M12="in m³",M14*11.4,IF(M12="in MWh",M14*1000,M14))*Faktoren!I$5/100, IF(M12="in m³",M14*11.4,IF(M12="in MWh",M14*1000,M14))) -> 0 | N15: =IF(N13= "witterungsbereinigt", IF(N12="in m³",N14*11.4,IF(N12="in MWh",N14*1000,N14))*Faktoren!J$5/100, IF(N12="in m³",N14*11.4,IF(N12="in MWh",N14*1000,N14))) -> 0 | ... AD15: =IF(AD13= "witterungsbereinigt", IF(AD12="in m³",AD14*11.4,IF(AD12="in MWh",AD14*1000,AD14))*Faktoren!Z$5/100, IF(AD12="in m³",AD14*11.4,IF(AD12="in MWh",AD14*1000,AD14))) -> 0
F16: CO2-Emission: | G16: =IF(G11="gas",Energieverbräuche!G15*Faktoren!C$8/1000, Energieverbräuche!G15*Faktoren!C$9/1000) -> 0 | H16: =IF(H11="gas",Energieverbräuche!H15*Faktoren!D$8/1000, Energieverbräuche!H15*Faktoren!D$9/1000) -> 0 | I16: =IF(I11="gas",Energieverbräuche!I15*Faktoren!E$8/1000, Energieverbräuche!I15*Faktoren!E$9/1000) -> 0 | J16: =IF(J11="gas",Energieverbräuche!J15*Faktoren!F$8/1000, Energieverbräuche!J15*Faktoren!F$9/1000) -> 0 | K16: =IF(K11="gas",Energieverbräuche!K15*Faktoren!G$8/1000, Energieverbräuche!K15*Faktoren!G$9/1000) -> 0 | L16: =IF(L11="gas",Energieverbräuche!L15*Faktoren!H$8/1000, Energieverbräuche!L15*Faktoren!H$9/1000) -> 0 | M16: =IF(M11="gas",Energieverbräuche!M15*Faktoren!I$8/1000, Energieverbräuche!M15*Faktoren!I$9/1000) -> 0 | N16: =IF(N11="gas",Energieverbräuche!N15*Faktoren!J$8/1000, Energieverbräuche!N15*Faktoren!J$9/1000) -> 0 | ... AD16: =IF(AD11="gas",Energieverbräuche!AD15*Faktoren!Z$8/1000, Energieverbräuche!AD15*Faktoren!Z$9/1000) -> 0
D17: 3 | F17: Energieart:
F18: Einheit:
F19: real / witterungsbereinigt:
F20: Verbrauch:
F21: realer Verbrauch [kWh] | G21: =IF(G19= "witterungsbereinigt", IF(G18="in m³",G20*11.4,IF(G18="in MWh",G20*1000,G20))*Faktoren!C$5/100, IF(G18="in m³",G20*11.4,IF(G18="in MWh",G20*1000,G20))) -> 0 | H21: =IF(H19= "witterungsbereinigt", IF(H18="in m³",H20*11.4,IF(H18="in MWh",H20*1000,H20))*Faktoren!D$5/100, IF(H18="in m³",H20*11.4,IF(H18="in MWh",H20*1000,H20))) -> 0 | I21: =IF(I19= "witterungsbereinigt", IF(I18="in m³",I20*11.4,IF(I18="in MWh",I20*1000,I20))*Faktoren!E$5/100, IF(I18="in m³",I20*11.4,IF(I18="in MWh",I20*1000,I20))) -> 0 | J21: =IF(J19= "witterungsbereinigt", IF(J18="in m³",J20*11.4,IF(J18="in MWh",J20*1000,J20))*Faktoren!F$5/100, IF(J18="in m³",J20*11.4,IF(J18="in MWh",J20*1000,J20))) -> 0 | K21: =IF(K19= "witterungsbereinigt", IF(K18="in m³",K20*11.4,IF(K18="in MWh",K20*1000,K20))*Faktoren!G$5/100, IF(K18="in m³",K20*11.4,IF(K18="in MWh",K20*1000,K20))) -> 0 | L21: =IF(L19= "witterungsbereinigt", IF(L18="in m³",L20*11.4,IF(L18="in MWh",L20*1000,L20))*Faktoren!H$5/100, IF(L18="in m³",L20*11.4,IF(L18="in MWh",L20*1000,L20))) -> 0 | M21: =IF(M19= "witterungsbereinigt", IF(M18="in m³",M20*11.4,IF(M18="in MWh",M20*1000,M20))*Faktoren!I$5/100, IF(M18="in m³",M20*11.4,IF(M18="in MWh",M20*1000,M20))) -> 0 | N21: =IF(N19= "witterungsbereinigt", IF(N18="in m³",N20*11.4,IF(N18="in MWh",N20*1000,N20))*Faktoren!J$5/100, IF(N18="in m³",N20*11.4,IF(N18="in MWh",N20*1000,N20))) -> 0 | ... AD21: =IF(AD19= "witterungsbereinigt", IF(AD18="in m³",AD20*11.4,IF(AD18="in MWh",AD20*1000,AD20))*Faktoren!Z$5/100, IF(AD18="in m³",AD20*11.4,IF(AD18="in MWh",AD20*1000,AD20))) -> 0
F22: CO2-Emission: | G22: =IF(G17="gas",Energieverbräuche!G21*Faktoren!C$8/1000, Energieverbräuche!G21*Faktoren!C$9/1000) -> 0 | H22: =IF(H17="gas",Energieverbräuche!H21*Faktoren!D$8/1000, Energieverbräuche!H21*Faktoren!D$9/1000) -> 0 | I22: =IF(I17="gas",Energieverbräuche!I21*Faktoren!E$8/1000, Energieverbräuche!I21*Faktoren!E$9/1000) -> 0 | J22: =IF(J17="gas",Energieverbräuche!J21*Faktoren!F$8/1000, Energieverbräuche!J21*Faktoren!F$9/1000) -> 0 | K22: =IF(K17="gas",Energieverbräuche!K21*Faktoren!G$8/1000, Energieverbräuche!K21*Faktoren!G$9/1000) -> 0 | L22: =IF(L17="gas",Energieverbräuche!L21*Faktoren!H$8/1000, Energieverbräuche!L21*Faktoren!H$9/1000) -> 0 | M22: =IF(M17="gas",Energieverbräuche!M21*Faktoren!I$8/1000, Energieverbräuche!M21*Faktoren!I$9/1000) -> 0 | N22: =IF(N17="gas",Energieverbräuche!N21*Faktoren!J$8/1000, Energieverbräuche!N21*Faktoren!J$9/1000) -> 0 | ... AD22: =IF(AD17="gas",Energieverbräuche!AD21*Faktoren!Z$8/1000, Energieverbräuche!AD21*Faktoren!Z$9/1000) -> 0
E23: Summe realer Verbrauch [kWh]: | G23: =SUM(G9+G15+G21) -> 1137282 | H23: =SUM(H9+H15+H21) -> 1066786 | I23: =SUM(I9+I15+I21) -> 1061958 | J23: =SUM(J9+J15+J21) -> 965320 | K23: =SUM(K9+K15+K21) -> 0 | L23: =SUM(L9+L15+L21) -> 0 | M23: =SUM(M9+M15+M21) -> 0 | N23: =SUM(N9+N15+N21) -> 0 | ... AD23: =SUM(AD9+AD15+AD21) -> 0
C25: Solarthermie | D25: 1 | F25: erzeugte Wärme [kWh]:
D26: 2 | F26: erzeugte Wärme [kWh]:
D27: 3 | F27: erzeugte Wärme [kWh]:
E28: Summe erzeugte Wärme [kWh]: | G28: =SUM(G25:G27) -> 0 | H28: =SUM(H25:H27) -> 0 | I28: =SUM(I25:I27) -> 0 | J28: =SUM(J25:J27) -> 0 | K28: =SUM(K25:K27) -> 0 | L28: =SUM(L25:L27) -> 0 | M28: =SUM(M25:M27) -> 0 | N28: =SUM(N25:N27) -> 0 | ... AD28: =SUM(AD25:AD27) -> 0
C30: Strom | D30: 1 | E30: Schule | F30: Verbrauch [kWh]: | G30: 246915.72 | H30: 241505.91 | I30: 247292 | J30: 258534.26
D31: 2 | F31: Verbrauch [kWh]:
D32: 3 | F32: Verbrauch [kWh]:
E33: Summe Verbrauch [kWh]: | G33: =SUM(G30:G32) -> 246915.72 | H33: =SUM(H30:H32) -> 241505.91 | I33: =SUM(I30:I32) -> 247292 | J33: =SUM(J30:J32) -> 258534.26 | K33: =SUM(K30:K32) -> 0 | L33: =SUM(L30:L32) -> 0 | M33: =SUM(M30:M32) -> 0 | N33: =SUM(N30:N32) -> 0 | ... AD33: =SUM(AD30:AD32) -> 0
C35: PV-Anlagen | D35: 1 | F35: erzeugter Strom [kWh]:
D36: 2 | F36: erzeugter Strom [kWh]:
D37: 3 | F37: erzeugter Strom [kWh]:
E38: Summe erzeugter Strom [kWh]: | G38: =SUM(G35:G37) -> 0 | H38: =SUM(H35:H37) -> 0 | I38: =SUM(I35:I37) -> 0 | J38: =SUM(J35:J37) -> 0 | K38: =SUM(K35:K37) -> 0 | L38: =SUM(L35:L37) -> 0 | M38: =SUM(M35:M37) -> 0 | N38: =SUM(N35:N37) -> 0 | ... AD38: =SUM(AD35:AD37) -> 0
C40: Restmüll | D40: 1 | E40: Schule | F40: Restmüll [m³]: | G40: 211.2 | H40: 369.6 | I40: 370 | J40: 370
D41: 2 | F41: Restmüll [m³]:
D42: 3 | F42: Restmüll [m³]:
E43: Summe Restmüll [m³]: | G43: =SUM(G40:G42) -> 211.2 | H43: =SUM(H40:H42) -> 369.6 | I43: =SUM(I40:I42) -> 370 | J43: =SUM(J40:J42) -> 370 | K43: =SUM(K40:K42) -> 0 | L43: =SUM(L40:L42) -> 0 | M43: =SUM(M40:M42) -> 0 | N43: =SUM(N40:N42) -> 0 | ... AD43: =SUM(AD40:AD42) -> 0

Sheet Faktoren
B2: Faktoren
C3: 2022 | D3: 2023 | E3: 2024 | F3: 2025 | G3: 2026 | H3: 2027 | I3: 2028 | J3: 2029 | K3: 2030 | L3: 2031 | M3: 2032 | N3: 2033 | O3: 2034 | P3: 2035 | Q3: 2036 | R3: 2037 | S3: 2038 | T3: 2039 | U3: 2040 | V3: 2041 | W3: 2042 | X3: 2043 | Y3: 2044 | Z3: 2045
B5: Witterungsfaktor [%]: | C5: 98.7 | D5: 95.5 | E5: 100 | F5: 100 | G5: 100 | H5: 100 | I5: 100 | J5: 100 | K5: 100 | L5: 100 | M5: 100 | N5: 100 | O5: 100 | P5: 100 | Q5: 100 | R5: 100 | S5: 100 | T5: 100 | U5: 100 | V5: 100 | W5: 100 | X5: 100 | Y5: 100 | Z5: 100
B6: Wenn auf dem Registerblatt "Energieverbräuche" witterungsbereinigte Verbräuche eingetragen wurden, muss der Witterungsfaktor aktualisiert werden. | C6: =IF(OR(Energieverbräuche!G7="witterungsbereinigt",Energieverbräuche!G13="witterungsbereinigt",Energieverbräuche!G19="witterungsbereinigt"),IF(C5=100,"Witterungsfaktor aktualisieren","Witterungsfaktor o.k.")," ") | D6: =IF(OR(Energieverbräuche!H7="witterungsbereinigt",Energieverbräuche!H13="witterungsbereinigt",Energieverbräuche!H19="witterungsbereinigt"),IF(D5=100,"Witterungsfaktor aktualisieren","Witterungsfaktor o.k.")," ") | E6: =IF(OR(Energieverbräuche!I7="witterungsbereinigt",Energieverbräuche!I13="witterungsbereinigt",Energieverbräuche!I19="witterungsbereinigt"),IF(E5=100,"Witterungsfaktor aktualisieren","Witterungsfaktor o.k.")," ") | F6: =IF(OR(Energieverbräuche!J7="witterungsbereinigt",Energieverbräuche!J13="witterungsbereinigt",Energieverbräuche!J19="witterungsbereinigt"),IF(F5=100,"Witterungsfaktor aktualisieren","Witterungsfaktor o.k.")," ") | G6: =IF(OR(Energieverbräuche!K7="witterungsbereinigt",Energieverbräuche!K13="witterungsbereinigt",Energieverbräuche!K19="witterungsbereinigt"),IF(G5=100,"Witterungsfaktor aktualisieren","Witterungsfaktor o.k.")," ") | H6: =IF(OR(Energieverbräuche!L7="witterungsbereinigt",Energieverbräuche!L13="witterungsbereinigt",Energieverbräuche!L19="witterungsbereinigt"),IF(H5=100,"Witterungsfaktor aktualisieren","Witterungsfaktor o.k.")," ") | I6: =IF(OR(Energieverbräuche!M7="witterungsbereinigt",Energieverbräuche!M13="witterungsbereinigt",Energieverbräuche!M19="witterungsbereinigt"),IF(I5=100,"Witterungsfaktor aktualisieren","Witterungsfaktor o.k.")," ") | J6: =IF(OR(Energieverbräuche!N7="witterungsbereinigt",Energieverbräuche!N13="witterungsbereinigt",Energieverbräuche!N19="witterungsbereinigt"),IF(J5=100,"Witterungsfaktor aktualisieren","Witterungsfaktor o.k.")," ") | ... Z6: =IF(OR(Energieverbräuche!AD7="witterungsbereinigt",Energieverbräuche!AD13="witterungsbereinigt",Energieverbräuche!AD19="witterungsbereinigt"),IF(Z5=100,"Witterungsfaktor aktualisieren","Witterungsfaktor o.k.")," ")
B8: Emissionsfaktor Gas [g/kWh]: | C8: 182 | D8: =C8 -> 182 | E8: =D8 -> 182 | F8: =E8 -> 182 | G8: =F8 -> 182 | H8: =G8 -> 182 | I8: =H8 -> 182 | J8: =I8 -> 182 | K8: =J8 -> 182 | ... Z8: =Y8 -> 182
B9: Emissionsfaktor Fernwärme [g/kWh]: | C9: 318 | D9: =C9 -> 318 | E9: =D9 -> 318 | F9: =E9 -> 318 | G9: =F9 -> 318 | H9: =G9 -> 318 | I9: =H9 -> 318 | J9: =I9 -> 318 | K9: =J9 -> 318 | ... Z9: =Y9 -> 318
B11: Emissionsfaktor Strom [g/kWh]: | C11: 384 | D11: =C11 -> 384 | E11: =D11 -> 384 | F11: =E11 -> 384 | G11: =F11 -> 384 | H11: =G11 -> 384 | I11: =H11 -> 384 | J11: =I11 -> 384 | K11: =J11 -> 384 | ... Z11: =Y11 -> 384
B13: Emissionsfaktor Abfall [kg/m³]: | C13: 90 | D13: =C13 -> 90 | E13: =D13 -> 90 | F13: =E13 -> 90 | G13: =F13 -> 90 | H13: =G13 -> 90 | I13: =H13 -> 90 | J13: =I13 -> 90 | K13: =J13 -> 90 | ... Z13: =Y13 -> 90

Sheet CO2-Schulbilanz
B2: CO2-Schulbilanz
B3: =Planungsübersicht!$E$14 -> Matthias-Claudius-Gymnasium | C3: =+Energieverbräuche!G3 -> 2022 | D3: =+Energieverbräuche!H3 -> 2023 | E3: =+Energieverbräuche!I3 -> 2024 | F3: =+Energieverbräuche!J3 -> 2025 | G3: =+Energieverbräuche!K3 -> 2026 | H3: =+Energieverbräuche!L3 -> 2027 | I3: =+Energieverbräuche!M3 -> 2028 | J3: =+Energieverbräuche!N3 -> 2029 | ... Z3: =+Energieverbräuche!AD3 -> 2045
B5: Emissions-Ziel [kg] | C5: =C7 -> 475479.31 | D5: =$C5-($C5-$K5)/8*1 -> 460620.65 | E5: =$C5-($C5-$K5)/8*2 -> 445761.98 | F5: =$C5-($C5-$K5)/8*3 -> 430903.32 | G5: =$C5-($C5-$K5)/8*4 -> 416044.66 | H5: =$C5-($C5-$K5)/8*5 -> 401185.99 | I5: =$C5-($C5-$K5)/8*6 -> 386327.33 | J5: =$C5-($C5-$K5)/8*7 -> 371468.66 | K5: =Planungsübersicht!H18 -> 356610 | L5: =$K5-($K5-$Z5)/15*1 -> 348685.33 | M5: =$K5-($K5-$Z5)/15*2 -> 340760.67 | N5: =$K5-($K5-$Z5)/15*3 -> 332836 | O5: =$K5-($K5-$Z5)/15*4 -> 324911.33 | P5: =$K5-($K5-$Z5)/15*5 -> 316986.67 | Q5: =$K5-($K5-$Z5)/15*6 -> 309062 | R5: =$K5-($K5-$Z5)/15*7 -> 301137.33 | S5: =$K5-($K5-$Z5)/15*8 -> 293212.67 | T5: =$K5-($K5-$Z5)/15*9 -> 285288 | U5: =$K5-($K5-$Z5)/15*10 -> 277363.33 | V5: =$K5-($K5-$Z5)/15*11 -> 269438.67 | W5: =$K5-($K5-$Z5)/15*12 -> 261514 | X5: =$K5-($K5-$Z5)/15*13 -> 253589.33 | Y5: =$K5-($K5-$Z5)/15*14 -> 245664.67 | Z5: =Planungsübersicht!H19 -> 237740
B6: geplante Emission* [kg] * Emission bei Umsetzung aller geplanter Maßnahmen | D6: =$C$5-Planungsübersicht!J25 -> 401680.31 | E6: =$C$5-Planungsübersicht!K25 -> 395957.31 | F6: =$C$5-Planungsübersicht!L25 -> 376705.31 | G6: =$C$5-Planungsübersicht!M25 -> 376705.31 | H6: =$C$5-Planungsübersicht!N25 -> 376705.31 | I6: =$C$5-Planungsübersicht!O25 -> 376705.31 | J6: =$C$5-Planungsübersicht!P25 -> 376705.31 | K6: =$C$5-Planungsübersicht!Q25 -> 376705.31 | ... Z6: =$C$5-Planungsübersicht!AF25 -> 376705.31
B7: reale Emission [kg] | C7: =SUM(C9:C16) -> 475479.31 | D7: =SUM(D9:D16) -> 465240.22 | E7: =SUM(E9:E16) -> 465962.77 | F7: =SUM(F9:F16) -> 439548.92 | G7: =SUM(G9:G16) -> 0 | H7: =SUM(H9:H16) -> 0 | I7: =SUM(I9:I16) -> 0 | J7: =SUM(J9:J16) -> 0 | ... Z7: =SUM(Z9:Z16) -> 0
B9: Emission Wärme [kg]: | C9: =Energieverbräuche!G10+Energieverbräuche!G16+Energieverbräuche!G22 -> 361655.68 | D9: =Energieverbräuche!H10+Energieverbräuche!H16+Energieverbräuche!H22 -> 339237.95 | E9: =Energieverbräuche!I10+Energieverbräuche!I16+Energieverbräuche!I22 -> 337702.64 | F9: =Energieverbräuche!J10+Energieverbräuche!J16+Energieverbräuche!J22 -> 306971.76 | G9: =Energieverbräuche!K10+Energieverbräuche!K16+Energieverbräuche!K22 -> 0 | H9: =Energieverbräuche!L10+Energieverbräuche!L16+Energieverbräuche!L22 -> 0 | I9: =Energieverbräuche!M10+Energieverbräuche!M16+Energieverbräuche!M22 -> 0 | J9: =Energieverbräuche!N10+Energieverbräuche!N16+Energieverbräuche!N22 -> 0 | ... Z9: =Energieverbräuche!AD10+Energieverbräuche!AD16+Energieverbräuche!AD22 -> 0
B10: Emissionseinsparung Solarthermie [kg]: | C10: =Energieverbräuche!G28*AVERAGE(Faktoren!C8,Faktoren!C9)/1000*(-1) -> 0 | D10: =Energieverbräuche!H28*AVERAGE(Faktoren!D8,Faktoren!D9)/1000*(-1) -> 0 | E10: =Energieverbräuche!I28*AVERAGE(Faktoren!E8,Faktoren!E9)/1000*(-1) -> 0 | F10: =Energieverbräuche!J28*AVERAGE(Faktoren!F8,Faktoren!F9)/1000*(-1) -> 0 | G10: =Energieverbräuche!K28*AVERAGE(Faktoren!G8,Faktoren!G9)/1000*(-1) -> 0 | H10: =Energieverbräuche!L28*AVERAGE(Faktoren!H8,Faktoren!H9)/1000*(-1) -> 0 | I10: =Energieverbräuche!M28*AVERAGE(Faktoren!I8,Faktoren!I9)/1000*(-1) -> 0 | J10: =Energieverbräuche!N28*AVERAGE(Faktoren!J8,Faktoren!J9)/1000*(-1) -> 0 | ... Z10: =Energieverbräuche!AD28*AVERAGE(Faktoren!Z8,Faktoren!Z9)/1000*(-1) -> 0
B11: Emission Strom [kg]: | C11: =Energieverbräuche!G33*Faktoren!C11/1000 -> 94815.636 | D11: =Energieverbräuche!H33*Faktoren!D11/1000 -> 92738.269 | E11: =Energieverbräuche!I33*Faktoren!E11/1000 -> 94960.128 | F11: =Energieverbräuche!J33*Faktoren!F11/1000 -> 99277.156 | G11: =Energieverbräuche!K33*Faktoren!G11/1000 -> 0 | H11: =Energieverbräuche!L33*Faktoren!H11/1000 -> 0 | I11: =Energieverbräuche!M33*Faktoren!I11/1000 -> 0 | J11: =Energieverbräuche!N33*Faktoren!J11/1000 -> 0 | ... Z11: =Energieverbräuche!AD33*Faktoren!Z11/1000 -> 0
B12: Emissionseinsparung PV-Anlage [kg]: | C12: =Energieverbräuche!G38*Faktoren!C11/1000*(-1) -> 0 | D12: =Energieverbräuche!H38*Faktoren!D11/1000*(-1) -> 0 | E12: =Energieverbräuche!I38*Faktoren!E11/1000*(-1) -> 0 | F12: =Energieverbräuche!J38*Faktoren!F11/1000*(-1) -> 0 | G12: =Energieverbräuche!K38*Faktoren!G11/1000*(-1) -> 0 | H12: =Energieverbräuche!L38*Faktoren!H11/1000*(-1) -> 0 | I12: =Energieverbräuche!M38*Faktoren!I11/1000*(-1) -> 0 | J12: =Energieverbräuche!N38*Faktoren!J11/1000*(-1) -> 0 | ... Z12: =Energieverbräuche!AD38*Faktoren!Z11/1000*(-1) -> 0
B13: Emission Abfall [kg]: | C13: =Energieverbräuche!G43*Faktoren!C13 -> 19008 | D13: =Energieverbräuche!H43*Faktoren!D13 -> 33264 | E13: =Energieverbräuche!I43*Faktoren!E13 -> 33300 | F13: =Energieverbräuche!J43*Faktoren!F13 -> 33300 | G13: =Energieverbräuche!K43*Faktoren!G13 -> 0 | H13: =Energieverbräuche!L43*Faktoren!H13 -> 0 | I13: =Energieverbräuche!M43*Faktoren!I13 -> 0 | J13: =Energieverbräuche!N43*Faktoren!J13 -> 0 | ... Z13: =Energieverbräuche!AD43*Faktoren!Z13 -> 0
B14: Emission Beschaffung [kg]:
B15: Emission Ernährung [kg]:
B16: Emission Mobilität [kg]:

Sheet Anleitung
